Package: HERON Version: 1.2.0 Command: /Library/Frameworks/R.framework/Resources/bin/R CMD build --keep-empty-dirs --no-resave-data HERON StartedAt: 2024-10-17 02:17:30 -0400 (Thu, 17 Oct 2024) EndedAt: 2024-10-17 02:18:45 -0400 (Thu, 17 Oct 2024) EllapsedTime: 75.6 seconds RetCode: 0 Status: OK PackageFile: HERON_1.2.0.tar.gz PackageFileSize: 963.5 KiB