Package: HEM Version: 1.76.0 Command: /Library/Frameworks/R.framework/Resources/bin/R CMD check --install=check:HEM.install-out.txt --library=/Library/Frameworks/R.framework/Resources/library --no-vignettes --timings HEM_1.76.0.tar.gz StartedAt: 2024-10-18 00:23:22 -0400 (Fri, 18 Oct 2024) EndedAt: 2024-10-18 00:24:07 -0400 (Fri, 18 Oct 2024) EllapsedTime: 45.2 seconds RetCode: 0 Status: WARNINGS CheckDir: HEM.Rcheck Warnings: 1