Package: HEM Version: 1.76.0 Maintainer: HyungJun Cho MaintainerEmail: hcho at virginia.edu git_url: https://git.bioconductor.org/packages/HEM git_branch: RELEASE_3_19 git_last_commit: 5e61d2a git_last_commit_date: 2024-04-30 10:12:44 -0400 (Tue, 30 Apr 2024)