Package: HELP Version: 1.62.0 Command: chmod a+r HELP -R && E:\biocbuild\bbs-3.19-bioc\R\bin\R.exe CMD build --keep-empty-dirs --no-resave-data HELP StartedAt: 2024-10-16 19:40:10 -0400 (Wed, 16 Oct 2024) EndedAt: 2024-10-16 19:40:41 -0400 (Wed, 16 Oct 2024) EllapsedTime: 30.5 seconds RetCode: 0 Status: OK PackageFile: HELP_1.62.0.tar.gz PackageFileSize: 895 KiB