Package: HDTD Version: 1.38.0 Command: E:\biocbuild\bbs-3.19-bioc\R\bin\R.exe CMD check --no-multiarch --install=check:HDTD.install-out.txt --library=E:\biocbuild\bbs-3.19-bioc\R\library --no-vignettes --timings HDTD_1.38.0.tar.gz StartedAt: 2024-10-17 02:14:17 -0400 (Thu, 17 Oct 2024) EndedAt: 2024-10-17 02:15:04 -0400 (Thu, 17 Oct 2024) EllapsedTime: 47.1 seconds RetCode: 0 Status: OK CheckDir: HDTD.Rcheck Warnings: 0