Package: HDTD Version: 1.38.0 Command: /home/biocbuild/bbs-3.19-bioc/R/bin/R CMD build --keep-empty-dirs --no-resave-data HDTD StartedAt: 2024-10-16 18:54:50 -0400 (Wed, 16 Oct 2024) EndedAt: 2024-10-16 18:55:12 -0400 (Wed, 16 Oct 2024) EllapsedTime: 22.0 seconds RetCode: 0 Status: OK PackageFile: HDTD_1.38.0.tar.gz PackageFileSize: 162.8 KiB