Package: HDTD Version: 1.38.0 Command: /Library/Frameworks/R.framework/Resources/bin/R CMD build --keep-empty-dirs --no-resave-data HDTD StartedAt: 2024-06-09 16:55:25 -0400 (Sun, 09 Jun 2024) EndedAt: 2024-06-09 16:55:52 -0400 (Sun, 09 Jun 2024) EllapsedTime: 27.1 seconds RetCode: 0 Status: OK PackageFile: HDTD_1.38.0.tar.gz PackageFileSize: 162.8 KiB