Package: HDF5Array Version: 1.32.0 Command: chmod a+r HDF5Array -R && F:\biocbuild\bbs-3.19-bioc\R\bin\R.exe CMD build --keep-empty-dirs --no-resave-data HDF5Array StartedAt: 2024-06-26 19:26:16 -0400 (Wed, 26 Jun 2024) EndedAt: 2024-06-26 19:26:22 -0400 (Wed, 26 Jun 2024) EllapsedTime: 6.1 seconds RetCode: 0 Status: OK PackageFile: HDF5Array_1.32.0.tar.gz PackageFileSize: 7.726 MiB