Package: HDF5Array Version: 1.32.1 Command: rm -rf HDF5Array.buildbin-libdir && mkdir HDF5Array.buildbin-libdir && /Users/biocbuild/BBS/utils/build-universal.sh HDF5Array_1.32.1.tar.gz /Library/Frameworks/R.framework/Resources/bin/R HDF5Array.buildbin-libdir StartedAt: 2024-10-18 18:53:21 -0400 (Fri, 18 Oct 2024) EndedAt: 2024-10-18 18:54:01 -0400 (Fri, 18 Oct 2024) EllapsedTime: 40.0 seconds RetCode: 0 Status: OK PackageFile: HDF5Array_1.32.1.tgz PackageFileSize: 10.28 MiB