Package: Gviz Version: 1.48.0 Command: /home/biocbuild/bbs-3.19-bioc/R/bin/R CMD check --install=check:Gviz.install-out.txt --library=/home/biocbuild/bbs-3.19-bioc/R/site-library --timings Gviz_1.48.0.tar.gz StartedAt: 2024-10-17 01:13:41 -0400 (Thu, 17 Oct 2024) EndedAt: 2024-10-17 01:25:44 -0400 (Thu, 17 Oct 2024) EllapsedTime: 723.5 seconds RetCode: 0 Status: OK CheckDir: Gviz.Rcheck Warnings: 0