Package: Gviz Version: 1.48.0 Command: /Library/Frameworks/R.framework/Resources/bin/R CMD check --install=check:Gviz.install-out.txt --library=/Library/Frameworks/R.framework/Resources/library --no-vignettes --timings Gviz_1.48.0.tar.gz StartedAt: 2024-10-17 06:28:39 -0400 (Thu, 17 Oct 2024) EndedAt: 2024-10-17 06:47:50 -0400 (Thu, 17 Oct 2024) EllapsedTime: 1151.6 seconds RetCode: 0 Status: OK CheckDir: Gviz.Rcheck Warnings: 0