Package: Gviz Version: 1.48.0 Command: /Library/Frameworks/R.framework/Resources/bin/R CMD check --install=check:Gviz.install-out.txt --library=/Library/Frameworks/R.framework/Resources/library --no-vignettes --timings Gviz_1.48.0.tar.gz StartedAt: 2024-06-09 20:48:41 -0400 (Sun, 09 Jun 2024) EndedAt: 2024-06-09 20:58:15 -0400 (Sun, 09 Jun 2024) EllapsedTime: 573.8 seconds RetCode: 0 Status: OK CheckDir: Gviz.Rcheck Warnings: 0