Package: Gviz Version: 1.48.0 Command: /Library/Frameworks/R.framework/Resources/bin/R CMD check --install=check:Gviz.install-out.txt --library=/Library/Frameworks/R.framework/Resources/library --no-vignettes --timings Gviz_1.48.0.tar.gz StartedAt: 2024-10-18 00:06:46 -0400 (Fri, 18 Oct 2024) EndedAt: 2024-10-18 00:16:54 -0400 (Fri, 18 Oct 2024) EllapsedTime: 608.0 seconds RetCode: 0 Status: OK CheckDir: Gviz.Rcheck Warnings: 0