Package: Guitar Version: 2.20.0 Command: E:\biocbuild\bbs-3.19-bioc\R\bin\R.exe CMD INSTALL Guitar StartedAt: 2024-10-16 16:28:59 -0400 (Wed, 16 Oct 2024) EndedAt: 2024-10-16 16:29:40 -0400 (Wed, 16 Oct 2024) EllapsedTime: 41.5 seconds RetCode: 0 Status: OK