Package: GreyListChIP Version: 1.36.0 Command: /home/biocbuild/bbs-3.19-bioc/R/bin/R CMD build --keep-empty-dirs --no-resave-data GreyListChIP StartedAt: 2024-10-16 18:51:16 -0400 (Wed, 16 Oct 2024) EndedAt: 2024-10-16 18:52:05 -0400 (Wed, 16 Oct 2024) EllapsedTime: 49.1 seconds RetCode: 0 Status: OK PackageFile: GreyListChIP_1.36.0.tar.gz PackageFileSize: 341.7 KiB