Package: GreyListChIP Version: 1.36.0 Command: /Library/Frameworks/R.framework/Resources/bin/R CMD build --keep-empty-dirs --no-resave-data GreyListChIP StartedAt: 2024-06-09 22:34:52 -0400 (Sun, 09 Jun 2024) EndedAt: 2024-06-09 22:36:09 -0400 (Sun, 09 Jun 2024) EllapsedTime: 77.7 seconds RetCode: 0 Status: OK PackageFile: GreyListChIP_1.36.0.tar.gz PackageFileSize: 340.5 KiB