Package: GreyListChIP Version: 1.36.0 Command: /Library/Frameworks/R.framework/Resources/bin/R CMD build --keep-empty-dirs --no-resave-data GreyListChIP StartedAt: 2024-10-17 01:52:22 -0400 (Thu, 17 Oct 2024) EndedAt: 2024-10-17 01:53:33 -0400 (Thu, 17 Oct 2024) EllapsedTime: 70.9 seconds RetCode: 0 Status: OK PackageFile: GreyListChIP_1.36.0.tar.gz PackageFileSize: 340.7 KiB