Package: GraphPAC Version: 1.46.0 Command: chmod a+r GraphPAC -R && E:\biocbuild\bbs-3.19-bioc\R\bin\R.exe CMD build --keep-empty-dirs --no-resave-data GraphPAC StartedAt: 2024-10-16 19:33:53 -0400 (Wed, 16 Oct 2024) EndedAt: 2024-10-16 19:35:26 -0400 (Wed, 16 Oct 2024) EllapsedTime: 93.3 seconds RetCode: 0 Status: OK PackageFile: GraphPAC_1.46.0.tar.gz PackageFileSize: 543.5 KiB