Package: GraphPAC Version: 1.46.0 Command: chmod a+r GraphPAC -R && F:\biocbuild\bbs-3.19-bioc\R\bin\R.exe CMD build --keep-empty-dirs --no-resave-data GraphPAC StartedAt: 2024-06-26 19:20:09 -0400 (Wed, 26 Jun 2024) EndedAt: 2024-06-26 19:21:43 -0400 (Wed, 26 Jun 2024) EllapsedTime: 93.3 seconds RetCode: 0 Status: OK PackageFile: GraphPAC_1.46.0.tar.gz PackageFileSize: 542.8 KiB