Package: GraphPAC Version: 1.46.0 Command: rm -rf GraphPAC.buildbin-libdir && mkdir GraphPAC.buildbin-libdir && F:\biocbuild\bbs-3.19-bioc\R\bin\R.exe CMD INSTALL --build --library=GraphPAC.buildbin-libdir GraphPAC_1.46.0.tar.gz StartedAt: 2024-06-27 08:19:21 -0400 (Thu, 27 Jun 2024) EndedAt: 2024-06-27 08:19:57 -0400 (Thu, 27 Jun 2024) EllapsedTime: 35.4 seconds RetCode: 0 Status: OK PackageFile: GraphPAC_1.46.0.zip PackageFileSize: 360.9 KiB