Package: GraphPAC Version: 1.46.0 Command: /Library/Frameworks/R.framework/Resources/bin/R CMD INSTALL GraphPAC StartedAt: 2024-10-16 16:25:55 -0400 (Wed, 16 Oct 2024) EndedAt: 2024-10-16 16:26:28 -0400 (Wed, 16 Oct 2024) EllapsedTime: 33.5 seconds RetCode: 0 Status: OK