Package: GraphPAC Version: 1.46.0 Command: /Library/Frameworks/R.framework/Resources/bin/R CMD INSTALL GraphPAC StartedAt: 2024-06-09 17:03:23 -0400 (Sun, 09 Jun 2024) EndedAt: 2024-06-09 17:03:45 -0400 (Sun, 09 Jun 2024) EllapsedTime: 22.0 seconds RetCode: 0 Status: OK