Package: GraphPAC Version: 1.46.0 Command: rm -rf GraphPAC.buildbin-libdir && mkdir GraphPAC.buildbin-libdir && /Users/biocbuild/BBS/utils/build-universal.sh GraphPAC_1.46.0.tar.gz /Library/Frameworks/R.framework/Resources/bin/R GraphPAC.buildbin-libdir StartedAt: 2024-10-18 18:49:28 -0400 (Fri, 18 Oct 2024) EndedAt: 2024-10-18 18:49:50 -0400 (Fri, 18 Oct 2024) EllapsedTime: 21.8 seconds RetCode: 0 Status: OK PackageFile: GraphPAC_1.46.0.tgz PackageFileSize: 521.8 KiB