Package: GraphAlignment Version: 1.68.0 Command: chmod a+r GraphAlignment -R && E:\biocbuild\bbs-3.19-bioc\R\bin\R.exe CMD build --keep-empty-dirs --no-resave-data GraphAlignment StartedAt: 2024-10-16 19:33:47 -0400 (Wed, 16 Oct 2024) EndedAt: 2024-10-16 19:34:04 -0400 (Wed, 16 Oct 2024) EllapsedTime: 17.8 seconds RetCode: 0 Status: OK PackageFile: GraphAlignment_1.68.0.tar.gz PackageFileSize: 455.7 KiB