Package: GraphAlignment Version: 1.68.0 Command: rm -rf GraphAlignment.buildbin-libdir && mkdir GraphAlignment.buildbin-libdir && E:\biocbuild\bbs-3.19-bioc\R\bin\R.exe CMD INSTALL --build --library=GraphAlignment.buildbin-libdir GraphAlignment_1.68.0.tar.gz StartedAt: 2024-10-17 07:55:04 -0400 (Thu, 17 Oct 2024) EndedAt: 2024-10-17 07:56:26 -0400 (Thu, 17 Oct 2024) EllapsedTime: 81.3 seconds RetCode: 0 Status: OK PackageFile: GraphAlignment_1.68.0.zip PackageFileSize: 444.3 KiB