Package: GraphAlignment Version: 1.68.0 Command: /home/biocbuild/bbs-3.19-bioc/R/bin/R CMD check --install=check:GraphAlignment.install-out.txt --library=/home/biocbuild/bbs-3.19-bioc/R/site-library --timings GraphAlignment_1.68.0.tar.gz StartedAt: 2024-10-17 01:07:59 -0400 (Thu, 17 Oct 2024) EndedAt: 2024-10-17 01:08:17 -0400 (Thu, 17 Oct 2024) EllapsedTime: 18.0 seconds RetCode: 0 Status: WARNINGS CheckDir: GraphAlignment.Rcheck Warnings: 1