Package: GraphAlignment Version: 1.68.0 Command: /Library/Frameworks/R.framework/Resources/bin/R CMD build --keep-empty-dirs --no-resave-data GraphAlignment StartedAt: 2024-10-16 19:45:42 -0400 (Wed, 16 Oct 2024) EndedAt: 2024-10-16 19:46:06 -0400 (Wed, 16 Oct 2024) EllapsedTime: 23.9 seconds RetCode: 0 Status: OK PackageFile: GraphAlignment_1.68.0.tar.gz PackageFileSize: 592.2 KiB