Package: GraphAlignment Version: 1.68.0 Command: rm -rf GraphAlignment.buildbin-libdir && mkdir GraphAlignment.buildbin-libdir && /Users/biocbuild/BBS/utils/build-universal.sh GraphAlignment_1.68.0.tar.gz /Library/Frameworks/R.framework/Resources/bin/R GraphAlignment.buildbin-libdir StartedAt: 2024-10-17 16:18:43 -0400 (Thu, 17 Oct 2024) EndedAt: 2024-10-17 16:18:55 -0400 (Thu, 17 Oct 2024) EllapsedTime: 12.4 seconds RetCode: 0 Status: OK PackageFile: GraphAlignment_1.68.0.tgz PackageFileSize: 576.4 KiB