Package: GraphAlignment Version: 1.68.0 Command: /Library/Frameworks/R.framework/Resources/bin/R CMD build --keep-empty-dirs --no-resave-data GraphAlignment StartedAt: 2024-06-09 16:51:21 -0400 (Sun, 09 Jun 2024) EndedAt: 2024-06-09 16:51:35 -0400 (Sun, 09 Jun 2024) EllapsedTime: 13.6 seconds RetCode: 0 Status: OK PackageFile: GraphAlignment_1.68.0.tar.gz PackageFileSize: 590.9 KiB