Package: GraphAlignment Version: 1.68.0 Command: rm -rf GraphAlignment.buildbin-libdir && mkdir GraphAlignment.buildbin-libdir && /Users/biocbuild/BBS/utils/build-universal.sh GraphAlignment_1.68.0.tar.gz /Library/Frameworks/R.framework/Resources/bin/R GraphAlignment.buildbin-libdir StartedAt: 2024-06-10 00:21:14 -0400 (Mon, 10 Jun 2024) EndedAt: 2024-06-10 00:21:22 -0400 (Mon, 10 Jun 2024) EllapsedTime: 7.9 seconds RetCode: 0 Status: OK PackageFile: GraphAlignment_1.68.0.tgz PackageFileSize: 575.1 KiB