Package: GraphAlignment Version: 1.68.0 Command: /Library/Frameworks/R.framework/Resources/bin/R CMD INSTALL GraphAlignment StartedAt: 2024-10-16 15:33:24 -0400 (Wed, 16 Oct 2024) EndedAt: 2024-10-16 15:33:28 -0400 (Wed, 16 Oct 2024) EllapsedTime: 4.1 seconds RetCode: 0 Status: OK