Package: GraphAT Version: 1.76.0 Command: E:\biocbuild\bbs-3.19-bioc\R\bin\R.exe CMD INSTALL GraphAT StartedAt: 2024-10-16 17:01:44 -0400 (Wed, 16 Oct 2024) EndedAt: 2024-10-16 17:01:56 -0400 (Wed, 16 Oct 2024) EllapsedTime: 12.5 seconds RetCode: 0 Status: OK