Package: GraphAT Version: 1.76.0 Command: chmod a+r GraphAT -R && E:\biocbuild\bbs-3.19-bioc\R\bin\R.exe CMD build --keep-empty-dirs --no-resave-data GraphAT StartedAt: 2024-10-16 19:33:48 -0400 (Wed, 16 Oct 2024) EndedAt: 2024-10-16 19:33:53 -0400 (Wed, 16 Oct 2024) EllapsedTime: 5.3 seconds RetCode: 0 Status: OK PackageFile: GraphAT_1.76.0.tar.gz PackageFileSize: 1.884 MiB