Package: GraphAT Version: 1.76.0 Command: rm -rf GraphAT.buildbin-libdir && mkdir GraphAT.buildbin-libdir && F:\biocbuild\bbs-3.19-bioc\R\bin\R.exe CMD INSTALL --build --library=GraphAT.buildbin-libdir GraphAT_1.76.0.tar.gz StartedAt: 2024-06-27 08:19:17 -0400 (Thu, 27 Jun 2024) EndedAt: 2024-06-27 08:19:31 -0400 (Thu, 27 Jun 2024) EllapsedTime: 14.2 seconds RetCode: 0 Status: OK PackageFile: GraphAT_1.76.0.zip PackageFileSize: 1.92 MiB