Package: GraphAT Version: 1.76.0 Command: /Library/Frameworks/R.framework/Resources/bin/R CMD build --keep-empty-dirs --no-resave-data GraphAT StartedAt: 2024-10-16 19:45:50 -0400 (Wed, 16 Oct 2024) EndedAt: 2024-10-16 19:45:55 -0400 (Wed, 16 Oct 2024) EllapsedTime: 4.3 seconds RetCode: 0 Status: OK PackageFile: GraphAT_1.76.0.tar.gz PackageFileSize: 1.884 MiB