Package: GraphAT Version: 1.76.0 Command: rm -rf GraphAT.buildbin-libdir && mkdir GraphAT.buildbin-libdir && /Users/biocbuild/BBS/utils/build-universal.sh GraphAT_1.76.0.tar.gz /Library/Frameworks/R.framework/Resources/bin/R GraphAT.buildbin-libdir StartedAt: 2024-06-10 00:21:17 -0400 (Mon, 10 Jun 2024) EndedAt: 2024-06-10 00:21:28 -0400 (Mon, 10 Jun 2024) EllapsedTime: 11.4 seconds RetCode: 0 Status: OK PackageFile: GraphAT_1.76.0.tgz PackageFileSize: 1.916 MiB