Package: GraphAT Version: 1.76.0 Command: /home/biocbuild/R/R-beta-2024-04-15_r86425/bin/R CMD build --keep-empty-dirs --no-resave-data GraphAT StartedAt: 2024-05-09 00:47:24 -0000 (Thu, 09 May 2024) EndedAt: 2024-05-09 00:47:26 -0000 (Thu, 09 May 2024) EllapsedTime: 2.0 seconds RetCode: 0 Status: OK PackageFile: GraphAT_1.76.0.tar.gz PackageFileSize: 1.884 MiB