Package: GraphAT Version: 1.76.0 Command: /Library/Frameworks/R.framework/Resources/bin/R CMD INSTALL GraphAT StartedAt: 2024-06-09 17:00:03 -0400 (Sun, 09 Jun 2024) EndedAt: 2024-06-09 17:00:12 -0400 (Sun, 09 Jun 2024) EllapsedTime: 9.4 seconds RetCode: 0 Status: OK