Package: GraphAT Version: 1.76.0 Command: /Library/Frameworks/R.framework/Resources/bin/R CMD build --keep-empty-dirs --no-resave-data GraphAT StartedAt: 2024-10-17 01:50:59 -0400 (Thu, 17 Oct 2024) EndedAt: 2024-10-17 01:51:02 -0400 (Thu, 17 Oct 2024) EllapsedTime: 3.3 seconds RetCode: 0 Status: OK PackageFile: GraphAT_1.76.0.tar.gz PackageFileSize: 1.884 MiB