Package: GmicR Version: 1.18.0 Command: chmod a+r GmicR -R && E:\biocbuild\bbs-3.19-bioc\R\bin\R.exe CMD build --keep-empty-dirs --no-resave-data GmicR StartedAt: 2024-10-16 19:29:49 -0400 (Wed, 16 Oct 2024) EndedAt: 2024-10-16 19:44:41 -0400 (Wed, 16 Oct 2024) EllapsedTime: 891.3 seconds RetCode: 0 Status: OK PackageFile: GmicR_1.18.0.tar.gz PackageFileSize: 3.4 MiB