Package: GmicR Version: 1.18.0 Command: rm -rf GmicR.buildbin-libdir && mkdir GmicR.buildbin-libdir && F:\biocbuild\bbs-3.19-bioc\R\bin\R.exe CMD INSTALL --build --library=GmicR.buildbin-libdir GmicR_1.18.0.tar.gz StartedAt: 2024-06-27 08:18:16 -0400 (Thu, 27 Jun 2024) EndedAt: 2024-06-27 08:18:54 -0400 (Thu, 27 Jun 2024) EllapsedTime: 38.3 seconds RetCode: 0 Status: OK PackageFile: GmicR_1.18.0.zip PackageFileSize: 3.452 MiB