Package: GmicR Version: 1.18.0 Command: /Library/Frameworks/R.framework/Resources/bin/R CMD check --install=check:GmicR.install-out.txt --library=/Library/Frameworks/R.framework/Resources/library --no-vignettes --timings GmicR_1.18.0.tar.gz StartedAt: 2024-10-17 23:28:37 -0400 (Thu, 17 Oct 2024) EndedAt: 2024-10-17 23:48:48 -0400 (Thu, 17 Oct 2024) EllapsedTime: 1211.3 seconds RetCode: 0 Status: WARNINGS CheckDir: GmicR.Rcheck Warnings: 1