Package: GlobalAncova Version: 4.22.0 Command: E:\biocbuild\bbs-3.19-bioc\R\bin\R.exe CMD INSTALL GlobalAncova StartedAt: 2024-10-16 17:02:54 -0400 (Wed, 16 Oct 2024) EndedAt: 2024-10-16 17:03:50 -0400 (Wed, 16 Oct 2024) EllapsedTime: 56.4 seconds RetCode: 0 Status: OK