Package: GlobalAncova Version: 4.22.0 Command: chmod a+r GlobalAncova -R && E:\biocbuild\bbs-3.19-bioc\R\bin\R.exe CMD build --keep-empty-dirs --no-resave-data GlobalAncova StartedAt: 2024-10-16 19:29:05 -0400 (Wed, 16 Oct 2024) EndedAt: 2024-10-16 19:38:05 -0400 (Wed, 16 Oct 2024) EllapsedTime: 540.0 seconds RetCode: 0 Status: OK PackageFile: GlobalAncova_4.22.0.tar.gz PackageFileSize: 963.1 KiB