Package: GlobalAncova Version: 4.22.0 Command: rm -rf GlobalAncova.buildbin-libdir && mkdir GlobalAncova.buildbin-libdir && E:\biocbuild\bbs-3.19-bioc\R\bin\R.exe CMD INSTALL --build --library=GlobalAncova.buildbin-libdir GlobalAncova_4.22.0.tar.gz StartedAt: 2024-10-17 07:53:52 -0400 (Thu, 17 Oct 2024) EndedAt: 2024-10-17 07:54:51 -0400 (Thu, 17 Oct 2024) EllapsedTime: 59.1 seconds RetCode: 0 Status: OK PackageFile: GlobalAncova_4.22.0.zip PackageFileSize: 1.359 MiB