Package: GlobalAncova Version: 4.22.0 Command: F:\biocbuild\bbs-3.19-bioc\R\bin\R.exe CMD INSTALL GlobalAncova StartedAt: 2024-06-26 16:35:30 -0400 (Wed, 26 Jun 2024) EndedAt: 2024-06-26 16:36:09 -0400 (Wed, 26 Jun 2024) EllapsedTime: 38.8 seconds RetCode: 0 Status: OK