Package: GlobalAncova Version: 4.22.0 Command: chmod a+r GlobalAncova -R && F:\biocbuild\bbs-3.19-bioc\R\bin\R.exe CMD build --keep-empty-dirs --no-resave-data GlobalAncova StartedAt: 2024-06-26 19:14:16 -0400 (Wed, 26 Jun 2024) EndedAt: 2024-06-26 19:26:09 -0400 (Wed, 26 Jun 2024) EllapsedTime: 712.2 seconds RetCode: 0 Status: OK PackageFile: GlobalAncova_4.22.0.tar.gz PackageFileSize: 961.9 KiB