Package: GlobalAncova Version: 4.22.0 Command: rm -rf GlobalAncova.buildbin-libdir && mkdir GlobalAncova.buildbin-libdir && F:\biocbuild\bbs-3.19-bioc\R\bin\R.exe CMD INSTALL --build --library=GlobalAncova.buildbin-libdir GlobalAncova_4.22.0.tar.gz StartedAt: 2024-06-27 08:18:08 -0400 (Thu, 27 Jun 2024) EndedAt: 2024-06-27 08:18:48 -0400 (Thu, 27 Jun 2024) EllapsedTime: 40.4 seconds RetCode: 0 Status: OK PackageFile: GlobalAncova_4.22.0.zip PackageFileSize: 1.358 MiB