Package: GlobalAncova Version: 4.22.0 Command: /Library/Frameworks/R.framework/Resources/bin/R CMD build --keep-empty-dirs --no-resave-data GlobalAncova StartedAt: 2024-10-16 19:38:36 -0400 (Wed, 16 Oct 2024) EndedAt: 2024-10-16 20:01:35 -0400 (Wed, 16 Oct 2024) EllapsedTime: 1379.1 seconds RetCode: 0 Status: OK PackageFile: GlobalAncova_4.22.0.tar.gz PackageFileSize: 1.208 MiB