Package: GlobalAncova Version: 4.22.0 Command: rm -rf GlobalAncova.buildbin-libdir && mkdir GlobalAncova.buildbin-libdir && /Users/biocbuild/BBS/utils/build-universal.sh GlobalAncova_4.22.0.tar.gz /Library/Frameworks/R.framework/Resources/bin/R GlobalAncova.buildbin-libdir StartedAt: 2024-10-17 16:17:00 -0400 (Thu, 17 Oct 2024) EndedAt: 2024-10-17 16:18:08 -0400 (Thu, 17 Oct 2024) EllapsedTime: 68.2 seconds RetCode: 0 Status: OK PackageFile: GlobalAncova_4.22.0.tgz PackageFileSize: 1.619 MiB